BEGIN:VCALENDAR
VERSION:2.0
PRODID:-//Squarespace Inc/Squarespace 6//v6//EN
BEGIN:VEVENT
UID:5d931ac0937a3466c0cc8d6f@squarespace.com
DTSTAMP:20191009T232058Z
DTSTART:20191012T060000Z
DTEND:20191012T100000Z
SUMMARY:Moonlight Market Bendigo
END:VEVENT
END:VCALENDAR
