BEGIN:VCALENDAR
VERSION:2.0
PRODID:-//Squarespace Inc/Squarespace 6//v6//EN
BEGIN:VEVENT
UID:5ce5f83153450a55ae518abd@squarespace.com
DTSTAMP:20191129T215751Z
DTSTART:20200209T020000Z
DTEND:20200209T040000Z
SUMMARY:Cooking Class - Valentines Dessert !
GEO:-37.800671;144.871664
LOCATION:West Footscray\, Australia
END:VEVENT
END:VCALENDAR
