BEGIN:VCALENDAR
VERSION:2.0
PRODID:-//Squarespace Inc/Squarespace 6//v6//EN
BEGIN:VEVENT
UID:5d931927f598883a3d4b2e5b@squarespace.com
DTSTAMP:20191026T042249Z
DTSTART:20191025T220000Z
DTEND:20191026T040000Z
SUMMARY:Hank Marvin Markets  - Market Cancelled 
GEO:-37.904338;144.993182
LOCATION:Elstenwick Primary School\, Brighton\, australia
END:VEVENT
END:VCALENDAR
