BEGIN:VCALENDAR
VERSION:2.0
PRODID:-//Squarespace Inc/Squarespace 6//v6//EN
BEGIN:VEVENT
UID:5dae616de4b5f32f917825a5@squarespace.com
DTSTAMP:20191022T020354Z
DTSTART:20191115T223000Z
DTEND:20191116T040000Z
SUMMARY:Seddon Makers Market
GEO:-37.805583;144.891002
LOCATION:seddon uniting church\, seddon\, Melbourne\, Australia
END:VEVENT
END:VCALENDAR
