BEGIN:VCALENDAR
VERSION:2.0
PRODID:-//Squarespace Inc/Squarespace 6//v6//EN
BEGIN:VEVENT
UID:5db5253d5d3ce536b6a1bc3a@squarespace.com
DTSTAMP:20191027T050957Z
DTSTART:20191115T233000Z
DTEND:20191116T013000Z
SUMMARY:The Village Store - Newtown - Geelong
GEO:-38.147125;144.347072
LOCATION:Pakington Street\, Newtown\, VIC\, 3220\, Australia
END:VEVENT
END:VCALENDAR
