BEGIN:VCALENDAR
VERSION:2.0
PRODID:-//Squarespace Inc/Squarespace 6//v6//EN
BEGIN:VEVENT
UID:5db526af519e397b8fdddae5@squarespace.com
DTSTAMP:20191027T051301Z
DTSTART:20191116T033000Z
DTEND:20191116T053000Z
SUMMARY:The Village Store - Yarraville
END:VEVENT
END:VCALENDAR
