BEGIN:VCALENDAR
VERSION:2.0
PRODID:-//Squarespace Inc/Squarespace 6//v6//EN
BEGIN:VEVENT
UID:5dae639951bfc07402d819c8@squarespace.com
DTSTAMP:20191022T020808Z
DTSTART:20191117T000000Z
DTEND:20191117T063000Z
SUMMARY:East Malvern Food + Wine 
GEO:-37.877312;145.059272
LOCATION:central Park\, East Malvern\, Australia
END:VEVENT
END:VCALENDAR
