BEGIN:VCALENDAR
VERSION:2.0
PRODID:-//Squarespace Inc/Squarespace 6//v6//EN
BEGIN:VEVENT
UID:5dae5df6a7afe7209d387172@squarespace.com
DTSTAMP:20191022T014529Z
DTSTART:20191122T220000Z
DTEND:20191123T040000Z
SUMMARY:Hank Marvin Markets
GEO:-37.891097;144.997247
LOCATION:Elstenwick Primary School
END:VEVENT
END:VCALENDAR
