BEGIN:VCALENDAR
VERSION:2.0
PRODID:-//Squarespace Inc/Squarespace 6//v6//EN
BEGIN:VEVENT
UID:5dae5fd1338bae2be5f46a05@squarespace.com
DTSTAMP:20191022T015350Z
DTSTART:20191123T060000Z
DTEND:20191123T100000Z
SUMMARY:Moonlight Market Bendigo
GEO:-36.761187;144.278582
LOCATION:hargreaves lane\, bendigo
END:VEVENT
END:VCALENDAR
