BEGIN:VCALENDAR
VERSION:2.0
PRODID:-//Squarespace Inc/Squarespace 6//v6//EN
BEGIN:VEVENT
UID:5dae5f488adb67266ad26276@squarespace.com
DTSTAMP:20191129T214214Z
DTSTART:20191129T220000Z
DTEND:20191130T040000Z
SUMMARY:Hank Marvin Markets - Sorry the Tarts won't be here today ....UPDAT
 E
GEO:-37.891097;144.997247
LOCATION:Elstenwick Primary School
END:VEVENT
END:VCALENDAR
