BEGIN:VCALENDAR
VERSION:2.0
PRODID:-//Squarespace Inc/Squarespace 6//v6//EN
BEGIN:VEVENT
UID:5dae5f8aa3383b4c25373714@squarespace.com
DTSTAMP:20191022T014731Z
DTSTART:20191213T220000Z
DTEND:20191214T040000Z
SUMMARY:Hank Marvin Markets
GEO:-37.891097;144.997247
LOCATION:Elstenwick Primary School
END:VEVENT
END:VCALENDAR
