BEGIN:VCALENDAR
VERSION:2.0
PRODID:-//Squarespace Inc/Squarespace 6//v6//EN
BEGIN:VEVENT
UID:5de190d5305b2260c9b51cf4@squarespace.com
DTSTAMP:20191129T214855Z
DTSTART:20191214T040000Z
DTEND:20191214T090000Z
SUMMARY:Mornington Twilight Market
GEO:-38.228;145.062
LOCATION:mornington racecourse\, Mornington\, Australia
END:VEVENT
END:VCALENDAR
