BEGIN:VCALENDAR
VERSION:2.0
PRODID:-//Squarespace Inc/Squarespace 6//v6//EN
BEGIN:VEVENT
UID:5de1925a5043fe7ceb0f9ac3@squarespace.com
DTSTAMP:20191129T215036Z
DTSTART:20191215T010000Z
DTEND:20191216T040000Z
SUMMARY:Two Birds Brewery + Two Little Tarts
END:VEVENT
END:VCALENDAR
