BEGIN:VCALENDAR
VERSION:2.0
PRODID:-//Squarespace Inc/Squarespace 6//v6//EN
BEGIN:VEVENT
UID:5dae5b9c940053095c9591ce@squarespace.com
DTSTAMP:20191022T013543Z
DTSTART:20191206T060000Z
DTEND:20191208T050000Z
SUMMARY:Handmade Canberra Market
GEO:-35.25;149.129167
LOCATION:EPIC\, Lyneham\, ACT\, 2602\, Australia
END:VEVENT
END:VCALENDAR
