BEGIN:VCALENDAR
VERSION:2.0
PRODID:-//Squarespace Inc/Squarespace 6//v6//EN
BEGIN:VEVENT
UID:5cdf9b227c744f0001807a1b@squarespace.com
DTSTAMP:20190518T054921Z
DTSTART:20190524T230000Z
DTEND:20190525T040000Z
SUMMARY:Market @ Mentone
GEO:-37.981683;145.069563
LOCATION:10 Balcombe Road\, Mentone\, VIC\, 3194\, Australia
END:VEVENT
END:VCALENDAR
