BEGIN:VCALENDAR
VERSION:2.0
PRODID:-//Squarespace Inc/Squarespace 6//v6//EN
BEGIN:VEVENT
UID:5cdf9d1a3fdc1e00013d110c@squarespace.com
DTSTAMP:20190518T055738Z
DTSTART:20190525T230000Z
DTEND:20190526T040000Z
SUMMARY:Market @ Mt Martha
GEO:-38.271327;145.041404
LOCATION:450 Nepean Highway\, Mount Martha\, VIC\, 3934\, Australia
END:VEVENT
END:VCALENDAR
