BEGIN:VCALENDAR
VERSION:2.0
PRODID:-//Squarespace Inc/Squarespace 6//v6//EN
BEGIN:VEVENT
UID:5cdf9fcfb4e0640001e34481@squarespace.com
DTSTAMP:20190518T061224Z
DTSTART:20190621T020000Z
DTEND:20190623T070000Z
SUMMARY:Brisbane - Finders Keepers Market
GEO:-27.45161;153.031084
LOCATION:Finders Keepers\, Gregory Terrace\, Bowen Hills\, QLD\, 4006\, Aus
 tralia
END:VEVENT
END:VCALENDAR
