BEGIN:VCALENDAR
VERSION:2.0
PRODID:-//Squarespace Inc/Squarespace 6//v6//EN
BEGIN:VEVENT
UID:5cdfa2620f06d30001f4e1a6@squarespace.com
DTSTAMP:20190518T063434Z
DTSTART:20190628T230000Z
DTEND:20190630T070000Z
SUMMARY:Handmade Canberra Market
GEO:-35.219324;149.145173
LOCATION:EPIC Exhibition Park\, Flemington Road\, Mitchell\, ACT\, 2911\, A
 ustralia
END:VEVENT
END:VCALENDAR
