BEGIN:VCALENDAR
VERSION:2.0
PRODID:-//Squarespace Inc/Squarespace 6//v6//EN
BEGIN:VEVENT
UID:5ce5f659a4222f82d3f65c0d@squarespace.com
DTSTAMP:20190523T013831Z
DTSTART:20190605T070000Z
DTEND:20190828T070000Z
SUMMARY:Winter Night Market - QVM
GEO:-37.812646;144.959686
LOCATION:Queen Victoria Market\, Queen Street\, Melbourne\, VIC\, 3004\, Au
 stralia
END:VEVENT
END:VCALENDAR
