BEGIN:VCALENDAR
VERSION:2.0
PRODID:-//Squarespace Inc/Squarespace 6//v6//EN
BEGIN:VEVENT
UID:5cdf9ee7d2960000013a73e9@squarespace.com
DTSTAMP:20190518T060125Z
DTSTART:20190608T230000Z
DTEND:20190609T040000Z
SUMMARY:Mornington Craft Market
GEO:-38.239297;145.065691
LOCATION:Mornington Racecourse\, Racecourse Road\, Mornington\, VIC\, 3931\
 , Australia
END:VEVENT
END:VCALENDAR
