BEGIN:VCALENDAR
VERSION:2.0
PRODID:-//Squarespace Inc/Squarespace 6//v6//EN
BEGIN:VEVENT
UID:5cdfa4676422980001d58165@squarespace.com
DTSTAMP:20190518T062550Z
DTSTART:20190712T020000Z
DTEND:20190714T070000Z
SUMMARY:Melbourne - Finders Keepers Market
GEO:-37.804745;144.971513
LOCATION:The Royal Exhibition Building\, 9 Nicholson Street\, Carlton\, VIC
 \, 3053\, Australia
END:VEVENT
END:VCALENDAR
