BEGIN:VCALENDAR
VERSION:2.0
PRODID:-//Squarespace Inc/Squarespace 6//v6//EN
BEGIN:VEVENT
UID:5de19729f26533387a0d9ec4@squarespace.com
DTSTAMP:20191129T221800Z
DTSTART:20200210T070000Z
DTEND:20200210T090000Z
SUMMARY:Cooking Class - Valentines Dessert MONDAY Class
GEO:-37.800671;144.871664
LOCATION:west footscray\, australia
END:VEVENT
END:VCALENDAR
